BEGIN:VCALENDAR
VERSION:2.0
PRODID:-//Sunnyfield - ECPv6.15.16//NONSGML v1.0//EN
CALSCALE:GREGORIAN
METHOD:PUBLISH
X-ORIGINAL-URL:https://www.sunnyfield.org.au
X-WR-CALDESC:Events for Sunnyfield
REFRESH-INTERVAL;VALUE=DURATION:PT1H
X-Robots-Tag:noindex
X-PUBLISHED-TTL:PT1H
BEGIN:VTIMEZONE
TZID:Australia/Sydney
BEGIN:STANDARD
TZOFFSETFROM:+1100
TZOFFSETTO:+1000
TZNAME:AEST
DTSTART:20250405T160000
END:STANDARD
BEGIN:DAYLIGHT
TZOFFSETFROM:+1000
TZOFFSETTO:+1100
TZNAME:AEDT
DTSTART:20251004T160000
END:DAYLIGHT
BEGIN:STANDARD
TZOFFSETFROM:+1100
TZOFFSETTO:+1000
TZNAME:AEST
DTSTART:20260404T160000
END:STANDARD
BEGIN:DAYLIGHT
TZOFFSETFROM:+1000
TZOFFSETTO:+1100
TZNAME:AEDT
DTSTART:20261003T160000
END:DAYLIGHT
BEGIN:STANDARD
TZOFFSETFROM:+1100
TZOFFSETTO:+1000
TZNAME:AEST
DTSTART:20270403T160000
END:STANDARD
BEGIN:DAYLIGHT
TZOFFSETFROM:+1000
TZOFFSETTO:+1100
TZNAME:AEDT
DTSTART:20271002T160000
END:DAYLIGHT
END:VTIMEZONE
BEGIN:VEVENT
DTSTART;VALUE=DATE:20260306
DTEND;VALUE=DATE:20260529
DTSTAMP:20260425T070407
CREATED:20260306T084434Z
LAST-MODIFIED:20260407T233750Z
UID:20001100-1772755200-1780012799@www.sunnyfield.org.au
SUMMARY:Weekly Program Gregory Hills Hub
DESCRIPTION:
URL:https://www.sunnyfield.org.au/event/weekly-program-gregory-hills-hub/
LOCATION:Gregory Hills Hub\, Suite 5B\, 15A/1 Gregory Hills Drive\, Gledswood Hills\, NSW\, 2557\, Australia
CATEGORIES:Programs
ATTACH;FMTTYPE=image/jpeg:https://www.sunnyfield.org.au/wp-content/uploads/2026/03/shutterstock_1713581020-1-scaled.jpg
GEO:-34.0204099;150.7639183
X-APPLE-STRUCTURED-LOCATION;VALUE=URI;X-ADDRESS=Gregory Hills Hub Suite 5B 15A/1 Gregory Hills Drive Gledswood Hills NSW 2557 Australia;X-APPLE-RADIUS=500;X-TITLE=Suite 5B\, 15A/1 Gregory Hills Drive:geo:150.7639183,-34.0204099
END:VEVENT
END:VCALENDAR